BEGIN:VCALENDAR
VERSION:2.0
PRODID:-//Városi Könyvtár Tiszakécske - ECPv6.15.13.1//NONSGML v1.0//EN
CALSCALE:GREGORIAN
METHOD:PUBLISH
X-ORIGINAL-URL:https://konyvtar.ajmk.hu
X-WR-CALDESC:Események Városi Könyvtár Tiszakécske
REFRESH-INTERVAL;VALUE=DURATION:PT1H
X-Robots-Tag:noindex
X-PUBLISHED-TTL:PT1H
BEGIN:VTIMEZONE
TZID:Europe/Budapest
BEGIN:DAYLIGHT
TZOFFSETFROM:+0100
TZOFFSETTO:+0200
TZNAME:CEST
DTSTART:20240331T010000
END:DAYLIGHT
BEGIN:STANDARD
TZOFFSETFROM:+0200
TZOFFSETTO:+0100
TZNAME:CET
DTSTART:20241027T010000
END:STANDARD
BEGIN:DAYLIGHT
TZOFFSETFROM:+0100
TZOFFSETTO:+0200
TZNAME:CEST
DTSTART:20250330T010000
END:DAYLIGHT
BEGIN:STANDARD
TZOFFSETFROM:+0200
TZOFFSETTO:+0100
TZNAME:CET
DTSTART:20251026T010000
END:STANDARD
BEGIN:DAYLIGHT
TZOFFSETFROM:+0100
TZOFFSETTO:+0200
TZNAME:CEST
DTSTART:20260329T010000
END:DAYLIGHT
BEGIN:STANDARD
TZOFFSETFROM:+0200
TZOFFSETTO:+0100
TZNAME:CET
DTSTART:20261025T010000
END:STANDARD
END:VTIMEZONE
BEGIN:VEVENT
DTSTART;TZID=Europe/Budapest:20250625T170000
DTEND;TZID=Europe/Budapest:20250625T170000
DTSTAMP:20260420T182504
CREATED:20250624T125139Z
LAST-MODIFIED:20250624T125139Z
UID:3215-1750870800-1750870800@konyvtar.ajmk.hu
SUMMARY:Író-olvasó találkozó Bán Mórral
DESCRIPTION:Író-olvasó találkozó Bán Mórral\nA belépés díjtalan!\nhelyszín: Városi Könyvtár\, Tiszakécske Kossuth u. 40.
URL:https://konyvtar.ajmk.hu/event/iro-olvaso-talalkozo-ban-morral/
LOCATION:Városi Könyvtár\, Kossuth utca 40.\, Tiszakécske\, BKKVM\, 6060
CATEGORIES:Találkozó
ATTACH;FMTTYPE=image/jpeg:https://konyvtar.ajmk.hu/wp-content/uploads/2025/06/Ban-Mor.jpg
END:VEVENT
END:VCALENDAR