BEGIN:VCALENDAR
VERSION:2.0
PRODID:-//Városi Könyvtár Tiszakécske - ECPv6.15.13.1//NONSGML v1.0//EN
CALSCALE:GREGORIAN
METHOD:PUBLISH
X-WR-CALNAME:Városi Könyvtár Tiszakécske
X-ORIGINAL-URL:https://konyvtar.ajmk.hu
X-WR-CALDESC:Események Városi Könyvtár Tiszakécske
REFRESH-INTERVAL;VALUE=DURATION:PT1H
X-Robots-Tag:noindex
X-PUBLISHED-TTL:PT1H
BEGIN:VTIMEZONE
TZID:Europe/Budapest
BEGIN:DAYLIGHT
TZOFFSETFROM:+0100
TZOFFSETTO:+0200
TZNAME:CEST
DTSTART:20240331T010000
END:DAYLIGHT
BEGIN:STANDARD
TZOFFSETFROM:+0200
TZOFFSETTO:+0100
TZNAME:CET
DTSTART:20241027T010000
END:STANDARD
BEGIN:DAYLIGHT
TZOFFSETFROM:+0100
TZOFFSETTO:+0200
TZNAME:CEST
DTSTART:20250330T010000
END:DAYLIGHT
BEGIN:STANDARD
TZOFFSETFROM:+0200
TZOFFSETTO:+0100
TZNAME:CET
DTSTART:20251026T010000
END:STANDARD
BEGIN:DAYLIGHT
TZOFFSETFROM:+0100
TZOFFSETTO:+0200
TZNAME:CEST
DTSTART:20260329T010000
END:DAYLIGHT
BEGIN:STANDARD
TZOFFSETFROM:+0200
TZOFFSETTO:+0100
TZNAME:CET
DTSTART:20261025T010000
END:STANDARD
END:VTIMEZONE
BEGIN:VEVENT
DTSTART;TZID=Europe/Budapest:20250508T180000
DTEND;TZID=Europe/Budapest:20250508T200000
DTSTAMP:20260420T215504
CREATED:20250428T115934Z
LAST-MODIFIED:20250428T120154Z
UID:3157-1746727200-1746734400@konyvtar.ajmk.hu
SUMMARY:Etiópia - vetítéssel egybekötött élménybeszámoló
DESCRIPTION:Szeretettel várjuk az érdeklődőket Bardócz Attila vetítéssel egybekötött élménybeszámolójára.
URL:https://konyvtar.ajmk.hu/event/etiopia-vetitessel-egybekotott-elmenybeszamolo/
LOCATION:Városi Könyvtár\, Kossuth utca 40.\, Tiszakécske\, BKKVM\, 6060
ATTACH;FMTTYPE=image/jpeg:https://konyvtar.ajmk.hu/wp-content/uploads/2025/04/Etiopia-web.jpg
END:VEVENT
END:VCALENDAR